BEGIN:VCALENDAR
VERSION:2.0
PRODID:-//ビバ・フローラ - ECPv4.6//NONSGML v1.0//EN
CALSCALE:GREGORIAN
METHOD:PUBLISH
X-WR-CALNAME:ビバ・フローラ
X-ORIGINAL-URL:http://viva.setagaya-hp.or.jp
X-WR-CALDESC:Events for ビバ・フローラ
BEGIN:VEVENT
DTSTART;TZID=Asia/Tokyo:20180503T093000
DTEND;TZID=Asia/Tokyo:20180503T113000
DTSTAMP:20260419T200716
CREATED:20180310T031047Z
LAST-MODIFIED:20180310T031047Z
UID:1195-1525339800-1525347000@viva.setagaya-hp.or.jp
SUMMARY:散髪日
DESCRIPTION:
URL:http://viva.setagaya-hp.or.jp/event/%e6%95%a3%e9%ab%aa%e6%97%a5-61/
END:VEVENT
END:VCALENDAR