BEGIN:VCALENDAR
VERSION:2.0
PRODID:-//ビバ・フローラ - ECPv4.6//NONSGML v1.0//EN
CALSCALE:GREGORIAN
METHOD:PUBLISH
X-WR-CALNAME:ビバ・フローラ
X-ORIGINAL-URL:http://viva.setagaya-hp.or.jp
X-WR-CALDESC:Events for ビバ・フローラ
BEGIN:VEVENT
DTSTART;TZID=Asia/Tokyo:20231019T093000
DTEND;TZID=Asia/Tokyo:20231019T113000
DTSTAMP:20260422T011905
CREATED:20230123T020019Z
LAST-MODIFIED:20230123T020029Z
UID:9263-1697707800-1697715000@viva.setagaya-hp.or.jp
SUMMARY:散髪日✄
DESCRIPTION:
URL:http://viva.setagaya-hp.or.jp/event/%e6%95%a3%e9%ab%aa%e6%97%a5-83/
END:VEVENT
END:VCALENDAR