BEGIN:VCALENDAR
VERSION:2.0
PRODID:-//ビバ・フローラ - ECPv4.6//NONSGML v1.0//EN
CALSCALE:GREGORIAN
METHOD:PUBLISH
X-WR-CALNAME:ビバ・フローラ
X-ORIGINAL-URL:http://viva.setagaya-hp.or.jp
X-WR-CALDESC:Events for ビバ・フローラ
BEGIN:VEVENT
DTSTART;TZID=Asia/Tokyo:20240620T093000
DTEND;TZID=Asia/Tokyo:20240620T113000
DTSTAMP:20260424T140614
CREATED:20240125T060408Z
LAST-MODIFIED:20240125T060415Z
UID:10450-1718875800-1718883000@viva.setagaya-hp.or.jp
SUMMARY:散髪日✄
DESCRIPTION:
URL:http://viva.setagaya-hp.or.jp/event/%e6%95%a3%e9%ab%aa%e6%97%a5-97/
END:VEVENT
END:VCALENDAR