BEGIN:VCALENDAR
VERSION:2.0
PRODID:-//ビバ・フローラ - ECPv4.6//NONSGML v1.0//EN
CALSCALE:GREGORIAN
METHOD:PUBLISH
X-WR-CALNAME:ビバ・フローラ
X-ORIGINAL-URL:http://viva.setagaya-hp.or.jp
X-WR-CALDESC:Events for ビバ・フローラ
BEGIN:VEVENT
DTSTART;VALUE=DATE:20250915
DTEND;VALUE=DATE:20250915
DTSTAMP:20260425T160316
CREATED:20240708T010800Z
LAST-MODIFIED:20240708T010800Z
UID:11012-1757894400-1757980799@viva.setagaya-hp.or.jp
SUMMARY:敬老の日
DESCRIPTION:
URL:http://viva.setagaya-hp.or.jp/event/%e6%95%ac%e8%80%81%e3%81%ae%e6%97%a5-9/
END:VEVENT
END:VCALENDAR