BEGIN:VCALENDAR
VERSION:2.0
PRODID:-//ビバ・フローラ - ECPv4.6//NONSGML v1.0//EN
CALSCALE:GREGORIAN
METHOD:PUBLISH
X-WR-CALNAME:ビバ・フローラ
X-ORIGINAL-URL:http://viva.setagaya-hp.or.jp
X-WR-CALDESC:Events for ビバ・フローラ
BEGIN:VEVENT
DTSTART;TZID=Asia/Tokyo:20170918T080000
DTEND;TZID=Asia/Tokyo:20170918T170000
DTSTAMP:20260419T101155
CREATED:20170526T072047Z
LAST-MODIFIED:20170526T072047Z
UID:867-1505721600-1505754000@viva.setagaya-hp.or.jp
SUMMARY:敬老の日
DESCRIPTION:
URL:http://viva.setagaya-hp.or.jp/event/%e6%95%ac%e8%80%81%e3%81%ae%e6%97%a5/
END:VEVENT
END:VCALENDAR