BEGIN:VCALENDAR
VERSION:2.0
PRODID:-//ビバ・フローラ - ECPv4.6//NONSGML v1.0//EN
CALSCALE:GREGORIAN
METHOD:PUBLISH
X-WR-CALNAME:ビバ・フローラ
X-ORIGINAL-URL:http://viva.setagaya-hp.or.jp
X-WR-CALDESC:Events for ビバ・フローラ
BEGIN:VEVENT
DTSTART;TZID=Asia/Tokyo:20180429T080000
DTEND;TZID=Asia/Tokyo:20180429T170000
DTSTAMP:20260419T120640
CREATED:20171211T235848Z
LAST-MODIFIED:20171211T235848Z
UID:1072-1524988800-1525021200@viva.setagaya-hp.or.jp
SUMMARY:昭和の日
DESCRIPTION:
URL:http://viva.setagaya-hp.or.jp/event/%e6%98%ad%e5%92%8c%e3%81%ae%e6%97%a5-2/
END:VEVENT
END:VCALENDAR