BEGIN:VCALENDAR
VERSION:2.0
PRODID:-//ビバ・フローラ - ECPv4.6//NONSGML v1.0//EN
CALSCALE:GREGORIAN
METHOD:PUBLISH
X-WR-CALNAME:ビバ・フローラ
X-ORIGINAL-URL:http://viva.setagaya-hp.or.jp
X-WR-CALDESC:Events for ビバ・フローラ
BEGIN:VEVENT
DTSTART;TZID=Asia/Tokyo:20220429T080000
DTEND;TZID=Asia/Tokyo:20220429T170000
DTSTAMP:20260420T034553
CREATED:20210919T034507Z
LAST-MODIFIED:20210919T034507Z
UID:7530-1651219200-1651251600@viva.setagaya-hp.or.jp
SUMMARY:昭和の日
DESCRIPTION:
URL:http://viva.setagaya-hp.or.jp/event/%e6%98%ad%e5%92%8c%e3%81%ae%e6%97%a5-6/
END:VEVENT
END:VCALENDAR