BEGIN:VCALENDAR
VERSION:2.0
PRODID:-//ビバ・フローラ - ECPv4.6//NONSGML v1.0//EN
CALSCALE:GREGORIAN
METHOD:PUBLISH
X-WR-CALNAME:ビバ・フローラ
X-ORIGINAL-URL:http://viva.setagaya-hp.or.jp
X-WR-CALDESC:Events for ビバ・フローラ
BEGIN:VEVENT
DTSTART;VALUE=DATE:20230429
DTEND;VALUE=DATE:20230429
DTSTAMP:20260421T124413
CREATED:20221006T062034Z
LAST-MODIFIED:20221006T062034Z
UID:8765-1682726400-1682812799@viva.setagaya-hp.or.jp
SUMMARY:昭和の日
DESCRIPTION:
URL:http://viva.setagaya-hp.or.jp/event/%e6%98%ad%e5%92%8c%e3%81%ae%e6%97%a5-7/
END:VEVENT
END:VCALENDAR