BEGIN:VCALENDAR
VERSION:2.0
PRODID:-//ビバ・フローラ - ECPv4.6//NONSGML v1.0//EN
CALSCALE:GREGORIAN
METHOD:PUBLISH
X-WR-CALNAME:ビバ・フローラ
X-ORIGINAL-URL:http://viva.setagaya-hp.or.jp
X-WR-CALDESC:Events for ビバ・フローラ
BEGIN:VEVENT
DTSTART;VALUE=DATE:20240429
DTEND;VALUE=DATE:20240429
DTSTAMP:20260424T134936
CREATED:20230909T013605Z
LAST-MODIFIED:20230909T013605Z
UID:9893-1714348800-1714435199@viva.setagaya-hp.or.jp
SUMMARY:昭和の日
DESCRIPTION:
URL:http://viva.setagaya-hp.or.jp/event/%e6%98%ad%e5%92%8c%e3%81%ae%e6%97%a5-8/
END:VEVENT
END:VCALENDAR