BEGIN:VCALENDAR
VERSION:2.0
PRODID:-//ビバ・フローラ - ECPv4.6//NONSGML v1.0//EN
CALSCALE:GREGORIAN
METHOD:PUBLISH
X-WR-CALNAME:ビバ・フローラ
X-ORIGINAL-URL:http://viva.setagaya-hp.or.jp
X-WR-CALDESC:Events for ビバ・フローラ
BEGIN:VEVENT
DTSTART;TZID=Asia/Tokyo:20250317T140000
DTEND;TZID=Asia/Tokyo:20250317T150000
DTSTAMP:20260425T145116
CREATED:20241116T015912Z
LAST-MODIFIED:20241116T015912Z
UID:11405-1742220000-1742223600@viva.setagaya-hp.or.jp
SUMMARY:書道教室
DESCRIPTION:
URL:http://viva.setagaya-hp.or.jp/event/%e6%9b%b8%e9%81%93%e6%95%99%e5%ae%a4-418/
END:VEVENT
END:VCALENDAR