BEGIN:VCALENDAR
VERSION:2.0
PRODID:-//ビバ・フローラ - ECPv4.6//NONSGML v1.0//EN
CALSCALE:GREGORIAN
METHOD:PUBLISH
X-WR-CALNAME:ビバ・フローラ
X-ORIGINAL-URL:http://viva.setagaya-hp.or.jp
X-WR-CALDESC:Events for ビバ・フローラ
BEGIN:VEVENT
DTSTART;TZID=Asia/Tokyo:20220514T120000
DTEND;TZID=Asia/Tokyo:20220514T130000
DTSTAMP:20260420T115147
CREATED:20220420T013814Z
LAST-MODIFIED:20220420T013814Z
UID:8252-1652529600-1652533200@viva.setagaya-hp.or.jp
SUMMARY:本日のランチ
DESCRIPTION:ごはん\nあじの南蛮漬け\nかぶの海老あんかけ\n蒸しなすのサラダ\n麩の味噌汁\nフルーツ缶 \n
URL:http://viva.setagaya-hp.or.jp/event/%e6%9c%ac%e6%97%a5%e3%81%ae%e3%83%a9%e3%83%b3%e3%83%81-1025/
END:VEVENT
END:VCALENDAR