BEGIN:VCALENDAR
VERSION:2.0
PRODID:-//ビバ・フローラ - ECPv4.6//NONSGML v1.0//EN
CALSCALE:GREGORIAN
METHOD:PUBLISH
X-WR-CALNAME:ビバ・フローラ
X-ORIGINAL-URL:http://viva.setagaya-hp.or.jp
X-WR-CALDESC:Events for ビバ・フローラ
BEGIN:VEVENT
DTSTART;TZID=Asia/Tokyo:20220516T120000
DTEND;TZID=Asia/Tokyo:20220516T130000
DTSTAMP:20260420T102119
CREATED:20220512T034011Z
LAST-MODIFIED:20220512T034011Z
UID:8268-1652702400-1652706000@viva.setagaya-hp.or.jp
SUMMARY:本日のランチ
DESCRIPTION:エビピラフ\n鶏肉のクリーム煮\nグリーンサラダ\nコンソメスープ\nぶどうゼリー \n
URL:http://viva.setagaya-hp.or.jp/event/%e6%9c%ac%e6%97%a5%e3%81%ae%e3%83%a9%e3%83%b3%e3%83%81-1026/
END:VEVENT
END:VCALENDAR