BEGIN:VCALENDAR
VERSION:2.0
PRODID:-//ビバ・フローラ - ECPv4.6//NONSGML v1.0//EN
CALSCALE:GREGORIAN
METHOD:PUBLISH
X-WR-CALNAME:ビバ・フローラ
X-ORIGINAL-URL:http://viva.setagaya-hp.or.jp
X-WR-CALDESC:Events for ビバ・フローラ
BEGIN:VEVENT
DTSTART;TZID=Asia/Tokyo:20220520T080000
DTEND;TZID=Asia/Tokyo:20220520T130000
DTSTAMP:20260420T082353
CREATED:20220512T034240Z
LAST-MODIFIED:20220512T034240Z
UID:8276-1653033600-1653051600@viva.setagaya-hp.or.jp
SUMMARY:本日のランチ
DESCRIPTION:ごはん\n赤魚の粕漬け焼き\nかぶのそぼろ煮\nかぼちゃのサラダ\nあさりの味噌汁\nりんごのコンポート \n
URL:http://viva.setagaya-hp.or.jp/event/%e6%9c%ac%e6%97%a5%e3%81%ae%e3%83%a9%e3%83%b3%e3%83%81-1030/
END:VEVENT
END:VCALENDAR