BEGIN:VCALENDAR
VERSION:2.0
PRODID:-//ビバ・フローラ - ECPv4.6//NONSGML v1.0//EN
CALSCALE:GREGORIAN
METHOD:PUBLISH
X-WR-CALNAME:ビバ・フローラ
X-ORIGINAL-URL:http://viva.setagaya-hp.or.jp
X-WR-CALDESC:Events for ビバ・フローラ
BEGIN:VEVENT
DTSTART;TZID=Asia/Tokyo:20220527T120000
DTEND;TZID=Asia/Tokyo:20220527T130000
DTSTAMP:20260420T181327
CREATED:20220518T042618Z
LAST-MODIFIED:20220518T042618Z
UID:8412-1653652800-1653656400@viva.setagaya-hp.or.jp
SUMMARY:本日のランチ
DESCRIPTION:ハヤシライス\nアスパラサラダ\nポトフ風スープ\nヨーグルトババロア \n
URL:http://viva.setagaya-hp.or.jp/event/%e6%9c%ac%e6%97%a5%e3%81%ae%e3%83%a9%e3%83%b3%e3%83%81-1036/
END:VEVENT
END:VCALENDAR