BEGIN:VCALENDAR
VERSION:2.0
PRODID:-//ビバ・フローラ - ECPv4.6//NONSGML v1.0//EN
CALSCALE:GREGORIAN
METHOD:PUBLISH
X-WR-CALNAME:ビバ・フローラ
X-ORIGINAL-URL:http://viva.setagaya-hp.or.jp
X-WR-CALDESC:Events for ビバ・フローラ
BEGIN:VEVENT
DTSTART;TZID=Asia/Tokyo:20220617T120000
DTEND;TZID=Asia/Tokyo:20220617T130000
DTSTAMP:20260420T181351
CREATED:20220606T064655Z
LAST-MODIFIED:20220606T064655Z
UID:8459-1655467200-1655470800@viva.setagaya-hp.or.jp
SUMMARY:本日のランチ
DESCRIPTION:ごはん\nカジキの野菜甘酢あんかけ\nじゃがいものそぼろ煮\n春雨サラダ\nわかめのすまし汁\nフルーツ缶 \n
URL:http://viva.setagaya-hp.or.jp/event/%e6%9c%ac%e6%97%a5%e3%81%ae%e3%83%a9%e3%83%b3%e3%83%81-1057/
END:VEVENT
END:VCALENDAR