BEGIN:VCALENDAR
VERSION:2.0
PRODID:-//ビバ・フローラ - ECPv4.6//NONSGML v1.0//EN
CALSCALE:GREGORIAN
METHOD:PUBLISH
X-WR-CALNAME:ビバ・フローラ
X-ORIGINAL-URL:http://viva.setagaya-hp.or.jp
X-WR-CALDESC:Events for ビバ・フローラ
BEGIN:VEVENT
DTSTART;TZID=Asia/Tokyo:20220717T120000
DTEND;TZID=Asia/Tokyo:20220717T130000
DTSTAMP:20260420T053127
CREATED:20220713T013307Z
LAST-MODIFIED:20220713T013307Z
UID:8528-1658059200-1658062800@viva.setagaya-hp.or.jp
SUMMARY:本日のランチ
DESCRIPTION:ごはん\n赤魚の粕漬け焼き\n里芋のそぼろ煮\n温野菜サラダ\n冬瓜の味噌汁\nフルーツ缶 \n
URL:http://viva.setagaya-hp.or.jp/event/%e6%9c%ac%e6%97%a5%e3%81%ae%e3%83%a9%e3%83%b3%e3%83%81-1086/
END:VEVENT
END:VCALENDAR