BEGIN:VCALENDAR
VERSION:2.0
PRODID:-//ビバ・フローラ - ECPv4.6//NONSGML v1.0//EN
CALSCALE:GREGORIAN
METHOD:PUBLISH
X-WR-CALNAME:ビバ・フローラ
X-ORIGINAL-URL:http://viva.setagaya-hp.or.jp
X-WR-CALDESC:Events for ビバ・フローラ
BEGIN:VEVENT
DTSTART;TZID=Asia/Tokyo:20220807T120000
DTEND;TZID=Asia/Tokyo:20220807T130000
DTSTAMP:20260420T053201
CREATED:20220725T083834Z
LAST-MODIFIED:20220725T083834Z
UID:8578-1659873600-1659877200@viva.setagaya-hp.or.jp
SUMMARY:本日のランチ
DESCRIPTION:あんかけ焼きそば\n春巻き\nアスパラサラダ\n中華スープ\nフルーツ缶 \n
URL:http://viva.setagaya-hp.or.jp/event/%e6%9c%ac%e6%97%a5%e3%81%ae%e3%83%a9%e3%83%b3%e3%83%81-1106/
END:VEVENT
END:VCALENDAR