BEGIN:VCALENDAR
VERSION:2.0
PRODID:-//ビバ・フローラ - ECPv4.6//NONSGML v1.0//EN
CALSCALE:GREGORIAN
METHOD:PUBLISH
X-WR-CALNAME:ビバ・フローラ
X-ORIGINAL-URL:http://viva.setagaya-hp.or.jp
X-WR-CALDESC:Events for ビバ・フローラ
BEGIN:VEVENT
DTSTART;TZID=Asia/Tokyo:20220808T120000
DTEND;TZID=Asia/Tokyo:20220808T130000
DTSTAMP:20260420T053108
CREATED:20220725T083908Z
LAST-MODIFIED:20220725T083908Z
UID:8580-1659960000-1659963600@viva.setagaya-hp.or.jp
SUMMARY:本日のランチ
DESCRIPTION:ごはん\nタラの香味焼き\n白菜の豆乳煮\nオクラの酢味噌和え\n大根のすまし汁\nフルーツ缶 \n
URL:http://viva.setagaya-hp.or.jp/event/%e6%9c%ac%e6%97%a5%e3%81%ae%e3%83%a9%e3%83%b3%e3%83%81-1107/
END:VEVENT
END:VCALENDAR