BEGIN:VCALENDAR
VERSION:2.0
PRODID:-//ビバ・フローラ - ECPv4.6//NONSGML v1.0//EN
CALSCALE:GREGORIAN
METHOD:PUBLISH
X-WR-CALNAME:ビバ・フローラ
X-ORIGINAL-URL:http://viva.setagaya-hp.or.jp
X-WR-CALDESC:Events for ビバ・フローラ
BEGIN:VEVENT
DTSTART;TZID=Asia/Tokyo:20220810T120000
DTEND;TZID=Asia/Tokyo:20220810T130000
DTSTAMP:20260419T215535
CREATED:20220725T084000Z
LAST-MODIFIED:20220725T084000Z
UID:8584-1660132800-1660136400@viva.setagaya-hp.or.jp
SUMMARY:本日のランチ
DESCRIPTION:ひじきごはん\n赤魚の塩焼き\nじゃがいもの千切り炒め\nブロッコリーの和風サラダ\nなすの味噌汁\nキウイフルーツ \n
URL:http://viva.setagaya-hp.or.jp/event/%e6%9c%ac%e6%97%a5%e3%81%ae%e3%83%a9%e3%83%b3%e3%83%81-1109/
END:VEVENT
END:VCALENDAR