BEGIN:VCALENDAR
VERSION:2.0
PRODID:-//ビバ・フローラ - ECPv4.6//NONSGML v1.0//EN
CALSCALE:GREGORIAN
METHOD:PUBLISH
X-WR-CALNAME:ビバ・フローラ
X-ORIGINAL-URL:http://viva.setagaya-hp.or.jp
X-WR-CALDESC:Events for ビバ・フローラ
BEGIN:VEVENT
DTSTART;TZID=Asia/Tokyo:20220817T120000
DTEND;TZID=Asia/Tokyo:20220817T130000
DTSTAMP:20260421T003335
CREATED:20220726T054445Z
LAST-MODIFIED:20220726T054445Z
UID:8598-1660737600-1660741200@viva.setagaya-hp.or.jp
SUMMARY:本日のランチ
DESCRIPTION:バターロール\nジャム\nミートローフ\nグリーンサラダ\n紅茶ゼリー\nポトフ風スープ \n
URL:http://viva.setagaya-hp.or.jp/event/%e6%9c%ac%e6%97%a5%e3%81%ae%e3%83%a9%e3%83%b3%e3%83%81-1115/
END:VEVENT
END:VCALENDAR