BEGIN:VCALENDAR
VERSION:2.0
PRODID:-//ビバ・フローラ - ECPv4.6//NONSGML v1.0//EN
CALSCALE:GREGORIAN
METHOD:PUBLISH
X-WR-CALNAME:ビバ・フローラ
X-ORIGINAL-URL:http://viva.setagaya-hp.or.jp
X-WR-CALDESC:Events for ビバ・フローラ
BEGIN:VEVENT
DTSTART;TZID=Asia/Tokyo:20220903T120000
DTEND;TZID=Asia/Tokyo:20220903T130000
DTSTAMP:20260420T193124
CREATED:20220822T010344Z
LAST-MODIFIED:20220822T010344Z
UID:8642-1662206400-1662210000@viva.setagaya-hp.or.jp
SUMMARY:本日のランチ
DESCRIPTION:中華おこわ\n白身魚の野菜あん\nふき土佐煮\n蒸しなすのサラダ\n中華スープ\nフルーツ缶 \n
URL:http://viva.setagaya-hp.or.jp/event/%e6%9c%ac%e6%97%a5%e3%81%ae%e3%83%a9%e3%83%b3%e3%83%81-1132/
END:VEVENT
END:VCALENDAR