BEGIN:VCALENDAR
VERSION:2.0
PRODID:-//ビバ・フローラ - ECPv4.6//NONSGML v1.0//EN
CALSCALE:GREGORIAN
METHOD:PUBLISH
X-WR-CALNAME:ビバ・フローラ
X-ORIGINAL-URL:http://viva.setagaya-hp.or.jp
X-WR-CALDESC:Events for ビバ・フローラ
BEGIN:VEVENT
DTSTART;TZID=Asia/Tokyo:20220914T120000
DTEND;TZID=Asia/Tokyo:20220914T130000
DTSTAMP:20260420T180337
CREATED:20220906T070239Z
LAST-MODIFIED:20220906T070239Z
UID:8687-1663156800-1663160400@viva.setagaya-hp.or.jp
SUMMARY:本日のランチ
DESCRIPTION:パン\n鶏の香草パン粉焼き\nポトフ風煮\nセロリとツナのサラダ\nライチジュレ\nコーンポタージュ \n
URL:http://viva.setagaya-hp.or.jp/event/%e6%9c%ac%e6%97%a5%e3%81%ae%e3%83%a9%e3%83%b3%e3%83%81-1150/
END:VEVENT
END:VCALENDAR