BEGIN:VCALENDAR
VERSION:2.0
PRODID:-//ビバ・フローラ - ECPv4.6//NONSGML v1.0//EN
CALSCALE:GREGORIAN
METHOD:PUBLISH
X-WR-CALNAME:ビバ・フローラ
X-ORIGINAL-URL:http://viva.setagaya-hp.or.jp
X-WR-CALDESC:Events for ビバ・フローラ
BEGIN:VEVENT
DTSTART;TZID=Asia/Tokyo:20221020T120000
DTEND;TZID=Asia/Tokyo:20221020T130000
DTSTAMP:20260420T222249
CREATED:20221011T055558Z
LAST-MODIFIED:20221011T055558Z
UID:8934-1666267200-1666270800@viva.setagaya-hp.or.jp
SUMMARY:本日のランチ
DESCRIPTION:ごはん\n棒棒鶏\n大学芋\nインゲンの中華サラダ\n中華スープ\n杏仁豆腐 \n
URL:http://viva.setagaya-hp.or.jp/event/%e6%9c%ac%e6%97%a5%e3%81%ae%e3%83%a9%e3%83%b3%e3%83%81-1178/
END:VEVENT
END:VCALENDAR