BEGIN:VCALENDAR
VERSION:2.0
PRODID:-//ビバ・フローラ - ECPv4.6//NONSGML v1.0//EN
CALSCALE:GREGORIAN
METHOD:PUBLISH
X-WR-CALNAME:ビバ・フローラ
X-ORIGINAL-URL:http://viva.setagaya-hp.or.jp
X-WR-CALDESC:Events for ビバ・フローラ
BEGIN:VEVENT
DTSTART;TZID=Asia/Tokyo:20221023T120000
DTEND;TZID=Asia/Tokyo:20221023T130000
DTSTAMP:20260420T233654
CREATED:20221018T013538Z
LAST-MODIFIED:20221018T013538Z
UID:8940-1666526400-1666530000@viva.setagaya-hp.or.jp
SUMMARY:本日のランチ
DESCRIPTION:炊き込みごはん\nカジキの野菜甘酢あんかけ\n車麩の煮物\nれんこんのごまサラダ\n豆腐の味噌汁\nフルーツ缶 \n
URL:http://viva.setagaya-hp.or.jp/event/%e6%9c%ac%e6%97%a5%e3%81%ae%e3%83%a9%e3%83%b3%e3%83%81-1181/
END:VEVENT
END:VCALENDAR