BEGIN:VCALENDAR
VERSION:2.0
PRODID:-//ビバ・フローラ - ECPv4.6//NONSGML v1.0//EN
CALSCALE:GREGORIAN
METHOD:PUBLISH
X-WR-CALNAME:ビバ・フローラ
X-ORIGINAL-URL:http://viva.setagaya-hp.or.jp
X-WR-CALDESC:Events for ビバ・フローラ
BEGIN:VEVENT
DTSTART;TZID=Asia/Tokyo:20221101T120000
DTEND;TZID=Asia/Tokyo:20221101T130000
DTSTAMP:20260422T113118
CREATED:20221024T021951Z
LAST-MODIFIED:20221024T021951Z
UID:8963-1667304000-1667307600@viva.setagaya-hp.or.jp
SUMMARY:本日のランチ
DESCRIPTION:ごはん\n鶏天\n冬瓜の海老あんかけ\nかぼちゃサラダ\nチンゲン菜の味噌汁\nキウイフルーツ \n
URL:http://viva.setagaya-hp.or.jp/event/%e6%9c%ac%e6%97%a5%e3%81%ae%e3%83%a9%e3%83%b3%e3%83%81-1189/
END:VEVENT
END:VCALENDAR