BEGIN:VCALENDAR
VERSION:2.0
PRODID:-//ビバ・フローラ - ECPv4.6//NONSGML v1.0//EN
CALSCALE:GREGORIAN
METHOD:PUBLISH
X-WR-CALNAME:ビバ・フローラ
X-ORIGINAL-URL:http://viva.setagaya-hp.or.jp
X-WR-CALDESC:Events for ビバ・フローラ
BEGIN:VEVENT
DTSTART;TZID=Asia/Tokyo:20221103T120000
DTEND;TZID=Asia/Tokyo:20221103T130000
DTSTAMP:20260421T025019
CREATED:20221024T022045Z
LAST-MODIFIED:20221024T022045Z
UID:8967-1667476800-1667480400@viva.setagaya-hp.or.jp
SUMMARY:本日のランチ
DESCRIPTION:ターメリックライス\n豆カレー\n福神漬・楽京漬\nツナサラダ\nトマトスープ\nヨーグルトストロベリーソース \n
URL:http://viva.setagaya-hp.or.jp/event/%e6%9c%ac%e6%97%a5%e3%81%ae%e3%83%a9%e3%83%b3%e3%83%81-1191/
END:VEVENT
END:VCALENDAR