BEGIN:VCALENDAR
VERSION:2.0
PRODID:-//ビバ・フローラ - ECPv4.6//NONSGML v1.0//EN
CALSCALE:GREGORIAN
METHOD:PUBLISH
X-WR-CALNAME:ビバ・フローラ
X-ORIGINAL-URL:http://viva.setagaya-hp.or.jp
X-WR-CALDESC:Events for ビバ・フローラ
BEGIN:VEVENT
DTSTART;TZID=Asia/Tokyo:20221109T120000
DTEND;TZID=Asia/Tokyo:20221109T130000
DTSTAMP:20260421T011906
CREATED:20221024T022342Z
LAST-MODIFIED:20221024T022342Z
UID:8979-1667995200-1667998800@viva.setagaya-hp.or.jp
SUMMARY:本日のランチ
DESCRIPTION:ごはん\n八宝菜\nじゃがいもたらこ炒め\nもやしの中華サラダ\n中華スープ\nマンゴープリン \n
URL:http://viva.setagaya-hp.or.jp/event/%e6%9c%ac%e6%97%a5%e3%81%ae%e3%83%a9%e3%83%b3%e3%83%81-1197/
END:VEVENT
END:VCALENDAR