BEGIN:VCALENDAR
VERSION:2.0
PRODID:-//ビバ・フローラ - ECPv4.6//NONSGML v1.0//EN
CALSCALE:GREGORIAN
METHOD:PUBLISH
X-WR-CALNAME:ビバ・フローラ
X-ORIGINAL-URL:http://viva.setagaya-hp.or.jp
X-WR-CALDESC:Events for ビバ・フローラ
BEGIN:VEVENT
DTSTART;TZID=Asia/Tokyo:20221113T120000
DTEND;TZID=Asia/Tokyo:20221113T130000
DTSTAMP:20260421T011843
CREATED:20221104T031049Z
LAST-MODIFIED:20221104T031049Z
UID:8994-1668340800-1668344400@viva.setagaya-hp.or.jp
SUMMARY:本日のランチ
DESCRIPTION:ごはん\n麻婆豆腐\n大根のカニあんかけ\n春雨の中華サラダ\n中華スープ\nアセロラジュレ \n
URL:http://viva.setagaya-hp.or.jp/event/%e6%9c%ac%e6%97%a5%e3%81%ae%e3%83%a9%e3%83%b3%e3%83%81-1201/
END:VEVENT
END:VCALENDAR