BEGIN:VCALENDAR
VERSION:2.0
PRODID:-//ビバ・フローラ - ECPv4.6//NONSGML v1.0//EN
CALSCALE:GREGORIAN
METHOD:PUBLISH
X-WR-CALNAME:ビバ・フローラ
X-ORIGINAL-URL:http://viva.setagaya-hp.or.jp
X-WR-CALDESC:Events for ビバ・フローラ
BEGIN:VEVENT
DTSTART;TZID=Asia/Tokyo:20221123T120000
DTEND;TZID=Asia/Tokyo:20221123T130000
DTSTAMP:20260421T033736
CREATED:20221116T012248Z
LAST-MODIFIED:20221116T012248Z
UID:9015-1669204800-1669208400@viva.setagaya-hp.or.jp
SUMMARY:本日のランチ
DESCRIPTION:ごはん\n肉豆腐\n大学芋\n青菜のくるみ味噌和え\n麩のすまし汁\nフルーツ缶 \n
URL:http://viva.setagaya-hp.or.jp/event/%e6%9c%ac%e6%97%a5%e3%81%ae%e3%83%a9%e3%83%b3%e3%83%81-1211/
END:VEVENT
END:VCALENDAR