BEGIN:VCALENDAR
VERSION:2.0
PRODID:-//ビバ・フローラ - ECPv4.6//NONSGML v1.0//EN
CALSCALE:GREGORIAN
METHOD:PUBLISH
X-WR-CALNAME:ビバ・フローラ
X-ORIGINAL-URL:http://viva.setagaya-hp.or.jp
X-WR-CALDESC:Events for ビバ・フローラ
BEGIN:VEVENT
DTSTART;TZID=Asia/Tokyo:20221124T120000
DTEND;TZID=Asia/Tokyo:20221124T130000
DTSTAMP:20260421T053957
CREATED:20221116T012355Z
LAST-MODIFIED:20221116T012355Z
UID:9017-1669291200-1669294800@viva.setagaya-hp.or.jp
SUMMARY:本日のランチ
DESCRIPTION:ごはん\nカレイのみぞれ煮\n切干大根の炒め煮\nアスパラのごま和え\nけんちん汁\n梅ゼリー \n
URL:http://viva.setagaya-hp.or.jp/event/%e6%9c%ac%e6%97%a5%e3%81%ae%e3%83%a9%e3%83%b3%e3%83%81-1212/
END:VEVENT
END:VCALENDAR