BEGIN:VCALENDAR
VERSION:2.0
PRODID:-//ビバ・フローラ - ECPv4.6//NONSGML v1.0//EN
CALSCALE:GREGORIAN
METHOD:PUBLISH
X-WR-CALNAME:ビバ・フローラ
X-ORIGINAL-URL:http://viva.setagaya-hp.or.jp
X-WR-CALDESC:Events for ビバ・フローラ
BEGIN:VEVENT
DTSTART;TZID=Asia/Tokyo:20221125T120000
DTEND;TZID=Asia/Tokyo:20221125T130000
DTSTAMP:20260421T042758
CREATED:20221116T014232Z
LAST-MODIFIED:20221116T014232Z
UID:9019-1669377600-1669381200@viva.setagaya-hp.or.jp
SUMMARY:本日のランチ
DESCRIPTION:サンドイッチ（玉子・ポテサラ）\nタンドリーチキン\nほうれん草サラダ\nクラムチャウダー\nヨーグルトババロア \n
URL:http://viva.setagaya-hp.or.jp/event/%e6%9c%ac%e6%97%a5%e3%81%ae%e3%83%a9%e3%83%b3%e3%83%81-1213/
END:VEVENT
END:VCALENDAR