BEGIN:VCALENDAR
VERSION:2.0
PRODID:-//ビバ・フローラ - ECPv4.6//NONSGML v1.0//EN
CALSCALE:GREGORIAN
METHOD:PUBLISH
X-WR-CALNAME:ビバ・フローラ
X-ORIGINAL-URL:http://viva.setagaya-hp.or.jp
X-WR-CALDESC:Events for ビバ・フローラ
BEGIN:VEVENT
DTSTART;TZID=Asia/Tokyo:20221126T120000
DTEND;TZID=Asia/Tokyo:20221126T130000
DTSTAMP:20260421T051841
CREATED:20221116T021532Z
LAST-MODIFIED:20221116T021532Z
UID:9021-1669464000-1669467600@viva.setagaya-hp.or.jp
SUMMARY:本日のランチ
DESCRIPTION:ごはん\n白身魚の磯辺揚げ\nなすそぼろあんかけ\nきゅうりとわかめの酢の物\n麩の味噌汁\nキウイフルーツ \n
URL:http://viva.setagaya-hp.or.jp/event/%e6%9c%ac%e6%97%a5%e3%81%ae%e3%83%a9%e3%83%b3%e3%83%81-1214/
END:VEVENT
END:VCALENDAR