BEGIN:VCALENDAR
VERSION:2.0
PRODID:-//ビバ・フローラ - ECPv4.6//NONSGML v1.0//EN
CALSCALE:GREGORIAN
METHOD:PUBLISH
X-WR-CALNAME:ビバ・フローラ
X-ORIGINAL-URL:http://viva.setagaya-hp.or.jp
X-WR-CALDESC:Events for ビバ・フローラ
BEGIN:VEVENT
DTSTART;TZID=Asia/Tokyo:20221203T120000
DTEND;TZID=Asia/Tokyo:20221203T130000
DTSTAMP:20260421T045034
CREATED:20221121T053320Z
LAST-MODIFIED:20221121T053320Z
UID:9035-1670068800-1670072400@viva.setagaya-hp.or.jp
SUMMARY:本日のランチ
DESCRIPTION:ごはん\nすき焼き風煮\n山芋短冊揚げ\nレタスとわかめサラダ\nしめじの味噌汁\nバナナ \n
URL:http://viva.setagaya-hp.or.jp/event/%e6%9c%ac%e6%97%a5%e3%81%ae%e3%83%a9%e3%83%b3%e3%83%81-1221/
END:VEVENT
END:VCALENDAR