BEGIN:VCALENDAR
VERSION:2.0
PRODID:-//ビバ・フローラ - ECPv4.6//NONSGML v1.0//EN
CALSCALE:GREGORIAN
METHOD:PUBLISH
X-WR-CALNAME:ビバ・フローラ
X-ORIGINAL-URL:http://viva.setagaya-hp.or.jp
X-WR-CALDESC:Events for ビバ・フローラ
BEGIN:VEVENT
DTSTART;TZID=Asia/Tokyo:20221205T120000
DTEND;TZID=Asia/Tokyo:20221205T130000
DTSTAMP:20260421T034338
CREATED:20221128T044606Z
LAST-MODIFIED:20221128T044606Z
UID:9041-1670241600-1670245200@viva.setagaya-hp.or.jp
SUMMARY:本日のランチ
DESCRIPTION:ターメリックライス\n豆カレー\n福神漬・楽京漬\nツナサラダ\nトマトスープ\nヨーグルトストロベリーソース \n
URL:http://viva.setagaya-hp.or.jp/event/%e6%9c%ac%e6%97%a5%e3%81%ae%e3%83%a9%e3%83%b3%e3%83%81-1223/
END:VEVENT
END:VCALENDAR