BEGIN:VCALENDAR
VERSION:2.0
PRODID:-//ビバ・フローラ - ECPv4.6//NONSGML v1.0//EN
CALSCALE:GREGORIAN
METHOD:PUBLISH
X-WR-CALNAME:ビバ・フローラ
X-ORIGINAL-URL:http://viva.setagaya-hp.or.jp
X-WR-CALDESC:Events for ビバ・フローラ
BEGIN:VEVENT
DTSTART;TZID=Asia/Tokyo:20221209T120000
DTEND;TZID=Asia/Tokyo:20221209T130000
DTSTAMP:20260421T003326
CREATED:20221128T044759Z
LAST-MODIFIED:20221128T044759Z
UID:9049-1670587200-1670590800@viva.setagaya-hp.or.jp
SUMMARY:本日のランチ
DESCRIPTION:ごはん\n肉味噌豆腐\nなすのおかか煮\n和風ツナサラダ\n麩のすまし汁\n黒蜜ほうじ茶ゼリー \n
URL:http://viva.setagaya-hp.or.jp/event/%e6%9c%ac%e6%97%a5%e3%81%ae%e3%83%a9%e3%83%b3%e3%83%81-1227/
END:VEVENT
END:VCALENDAR