BEGIN:VCALENDAR
VERSION:2.0
PRODID:-//ビバ・フローラ - ECPv4.6//NONSGML v1.0//EN
CALSCALE:GREGORIAN
METHOD:PUBLISH
X-WR-CALNAME:ビバ・フローラ
X-ORIGINAL-URL:http://viva.setagaya-hp.or.jp
X-WR-CALDESC:Events for ビバ・フローラ
BEGIN:VEVENT
DTSTART;TZID=Asia/Tokyo:20230101T120000
DTEND;TZID=Asia/Tokyo:20230101T130000
DTSTAMP:20260421T061505
CREATED:20221226T041442Z
LAST-MODIFIED:20221226T041442Z
UID:9117-1672574400-1672578000@viva.setagaya-hp.or.jp
SUMMARY:本日のランチ
DESCRIPTION:お赤飯\nブリの照り焼き\n海老の芝煮\n栗きんとん\n紅白かまぼこ\n伊達巻\n紅白なます\n手毬百合根\n若鶏二色巻\n煮しめ\nすまし汁\nみかん \n
URL:http://viva.setagaya-hp.or.jp/event/%e6%9c%ac%e6%97%a5%e3%81%ae%e3%83%a9%e3%83%b3%e3%83%81-1249/
END:VEVENT
END:VCALENDAR