BEGIN:VCALENDAR
VERSION:2.0
PRODID:-//ビバ・フローラ - ECPv4.6//NONSGML v1.0//EN
CALSCALE:GREGORIAN
METHOD:PUBLISH
X-WR-CALNAME:ビバ・フローラ
X-ORIGINAL-URL:http://viva.setagaya-hp.or.jp
X-WR-CALDESC:Events for ビバ・フローラ
BEGIN:VEVENT
DTSTART;TZID=Asia/Tokyo:20230108T120000
DTEND;TZID=Asia/Tokyo:20230108T130000
DTSTAMP:20260421T093226
CREATED:20221229T014025Z
LAST-MODIFIED:20221229T014025Z
UID:9131-1673179200-1673182800@viva.setagaya-hp.or.jp
SUMMARY:本日のランチ
DESCRIPTION:ごはん\n豚カツ煮\nツナじゃが\n青菜の湯葉和え\nあさりのすまし汁\nフルーツ缶 \n
URL:http://viva.setagaya-hp.or.jp/event/%e6%9c%ac%e6%97%a5%e3%81%ae%e3%83%a9%e3%83%b3%e3%83%81-1256/
END:VEVENT
END:VCALENDAR