BEGIN:VCALENDAR
VERSION:2.0
PRODID:-//ビバ・フローラ - ECPv4.6//NONSGML v1.0//EN
CALSCALE:GREGORIAN
METHOD:PUBLISH
X-WR-CALNAME:ビバ・フローラ
X-ORIGINAL-URL:http://viva.setagaya-hp.or.jp
X-WR-CALDESC:Events for ビバ・フローラ
BEGIN:VEVENT
DTSTART;TZID=Asia/Tokyo:20230111T120000
DTEND;TZID=Asia/Tokyo:20230111T130000
DTSTAMP:20260421T124827
CREATED:20221229T014405Z
LAST-MODIFIED:20221229T014405Z
UID:9137-1673438400-1673442000@viva.setagaya-hp.or.jp
SUMMARY:本日のランチ
DESCRIPTION:ごはん\n赤魚の粕漬焼き\n里芋のそぼろ煮\n春雨サラダ\n青菜の味噌汁\nフルーツ缶 \n
URL:http://viva.setagaya-hp.or.jp/event/%e6%9c%ac%e6%97%a5%e3%81%ae%e3%83%a9%e3%83%b3%e3%83%81-1259/
END:VEVENT
END:VCALENDAR