BEGIN:VCALENDAR
VERSION:2.0
PRODID:-//ビバ・フローラ - ECPv4.6//NONSGML v1.0//EN
CALSCALE:GREGORIAN
METHOD:PUBLISH
X-WR-CALNAME:ビバ・フローラ
X-ORIGINAL-URL:http://viva.setagaya-hp.or.jp
X-WR-CALDESC:Events for ビバ・フローラ
BEGIN:VEVENT
DTSTART;TZID=Asia/Tokyo:20230115T120000
DTEND;TZID=Asia/Tokyo:20230115T130000
DTSTAMP:20260421T130153
CREATED:20230110T041954Z
LAST-MODIFIED:20230110T041954Z
UID:9148-1673784000-1673787600@viva.setagaya-hp.or.jp
SUMMARY:本日のランチ
DESCRIPTION:ソース焼きそば\n海老焼売\n大学芋\n中華スープ\nオレンジ \n
URL:http://viva.setagaya-hp.or.jp/event/%e6%9c%ac%e6%97%a5%e3%81%ae%e3%83%a9%e3%83%b3%e3%83%81-1263/
END:VEVENT
END:VCALENDAR