BEGIN:VCALENDAR
VERSION:2.0
PRODID:-//ビバ・フローラ - ECPv4.6//NONSGML v1.0//EN
CALSCALE:GREGORIAN
METHOD:PUBLISH
X-WR-CALNAME:ビバ・フローラ
X-ORIGINAL-URL:http://viva.setagaya-hp.or.jp
X-WR-CALDESC:Events for ビバ・フローラ
BEGIN:VEVENT
DTSTART;TZID=Asia/Tokyo:20230212T120000
DTEND;TZID=Asia/Tokyo:20230212T130000
DTSTAMP:20260421T094518
CREATED:20230208T035908Z
LAST-MODIFIED:20230208T035908Z
UID:9360-1676203200-1676206800@viva.setagaya-hp.or.jp
SUMMARY:本日のランチ
DESCRIPTION:ごはん\n親子煮\nたけのこと春雨の炒め煮\nかぶの柚子漬け\n芋の味噌汁\nフルーツ缶 \n
URL:http://viva.setagaya-hp.or.jp/event/%e6%9c%ac%e6%97%a5%e3%81%ae%e3%83%a9%e3%83%b3%e3%83%81-1291/
END:VEVENT
END:VCALENDAR