BEGIN:VCALENDAR
VERSION:2.0
PRODID:-//ビバ・フローラ - ECPv4.6//NONSGML v1.0//EN
CALSCALE:GREGORIAN
METHOD:PUBLISH
X-WR-CALNAME:ビバ・フローラ
X-ORIGINAL-URL:http://viva.setagaya-hp.or.jp
X-WR-CALDESC:Events for ビバ・フローラ
BEGIN:VEVENT
DTSTART;TZID=Asia/Tokyo:20230213T120000
DTEND;TZID=Asia/Tokyo:20230213T130000
DTSTAMP:20260421T125459
CREATED:20230208T035935Z
LAST-MODIFIED:20230208T035935Z
UID:9362-1676289600-1676293200@viva.setagaya-hp.or.jp
SUMMARY:本日のランチ
DESCRIPTION:バターロール\nジャム\nミートローフ\nマセドアンサラダ\nコーンポタージュ\nフルーツ缶 \n
URL:http://viva.setagaya-hp.or.jp/event/%e6%9c%ac%e6%97%a5%e3%81%ae%e3%83%a9%e3%83%b3%e3%83%81-1292/
END:VEVENT
END:VCALENDAR