BEGIN:VCALENDAR
VERSION:2.0
PRODID:-//ビバ・フローラ - ECPv4.6//NONSGML v1.0//EN
CALSCALE:GREGORIAN
METHOD:PUBLISH
X-WR-CALNAME:ビバ・フローラ
X-ORIGINAL-URL:http://viva.setagaya-hp.or.jp
X-WR-CALDESC:Events for ビバ・フローラ
BEGIN:VEVENT
DTSTART;TZID=Asia/Tokyo:20230218T120000
DTEND;TZID=Asia/Tokyo:20230218T130000
DTSTAMP:20260421T220855
CREATED:20230208T040151Z
LAST-MODIFIED:20230208T040151Z
UID:9372-1676721600-1676725200@viva.setagaya-hp.or.jp
SUMMARY:本日のランチ
DESCRIPTION:ごはん\n肉味噌豆腐\n焼きビーフン\nカリフラワーサラダ\n麩のすまし汁\nキウイフルーツ \n
URL:http://viva.setagaya-hp.or.jp/event/%e6%9c%ac%e6%97%a5%e3%81%ae%e3%83%a9%e3%83%b3%e3%83%81-1297/
END:VEVENT
END:VCALENDAR