BEGIN:VCALENDAR
VERSION:2.0
PRODID:-//ビバ・フローラ - ECPv4.6//NONSGML v1.0//EN
CALSCALE:GREGORIAN
METHOD:PUBLISH
X-WR-CALNAME:ビバ・フローラ
X-ORIGINAL-URL:http://viva.setagaya-hp.or.jp
X-WR-CALDESC:Events for ビバ・フローラ
BEGIN:VEVENT
DTSTART;TZID=Asia/Tokyo:20230227T120000
DTEND;TZID=Asia/Tokyo:20230227T130000
DTSTAMP:20260421T160648
CREATED:20230220T044155Z
LAST-MODIFIED:20230220T044155Z
UID:9400-1677499200-1677502800@viva.setagaya-hp.or.jp
SUMMARY:本日のランチ
DESCRIPTION:ごはん\nあじの南蛮漬け\nかぶとベーコンの白だし煮\nいんげんの辛子和え\nあさりの味噌汁\nりんごのコンポート \n
URL:http://viva.setagaya-hp.or.jp/event/%e6%9c%ac%e6%97%a5%e3%81%ae%e3%83%a9%e3%83%b3%e3%83%81-1305/
END:VEVENT
END:VCALENDAR