BEGIN:VCALENDAR
VERSION:2.0
PRODID:-//ビバ・フローラ - ECPv4.6//NONSGML v1.0//EN
CALSCALE:GREGORIAN
METHOD:PUBLISH
X-WR-CALNAME:ビバ・フローラ
X-ORIGINAL-URL:http://viva.setagaya-hp.or.jp
X-WR-CALDESC:Events for ビバ・フローラ
BEGIN:VEVENT
DTSTART;TZID=Asia/Tokyo:20230320T120000
DTEND;TZID=Asia/Tokyo:20230320T130000
DTSTAMP:20260421T144120
CREATED:20230315T044141Z
LAST-MODIFIED:20230315T044141Z
UID:9448-1679313600-1679317200@viva.setagaya-hp.or.jp
SUMMARY:本日のランチ
DESCRIPTION:ごはん\nカジキの野菜甘酢あんかけ\nかぼちゃの含め煮\n野菜のごま和え\nわかめの味噌汁\nキウイフルーツ \n
URL:http://viva.setagaya-hp.or.jp/event/%e6%9c%ac%e6%97%a5%e3%81%ae%e3%83%a9%e3%83%b3%e3%83%81-1326/
END:VEVENT
END:VCALENDAR