BEGIN:VCALENDAR
VERSION:2.0
PRODID:-//ビバ・フローラ - ECPv4.6//NONSGML v1.0//EN
CALSCALE:GREGORIAN
METHOD:PUBLISH
X-WR-CALNAME:ビバ・フローラ
X-ORIGINAL-URL:http://viva.setagaya-hp.or.jp
X-WR-CALDESC:Events for ビバ・フローラ
BEGIN:VEVENT
DTSTART;TZID=Asia/Tokyo:20230403T120000
DTEND;TZID=Asia/Tokyo:20230403T130000
DTSTAMP:20260421T204108
CREATED:20230329T004402Z
LAST-MODIFIED:20230329T004402Z
UID:9488-1680523200-1680526800@viva.setagaya-hp.or.jp
SUMMARY:本日のランチ
DESCRIPTION:ごはん\n鶏肉と野菜の煮物\nいんげんコーン炒め\nほうれん草のピーナッツ和え\n芋の味噌汁\nアセロラジュレ \n
URL:http://viva.setagaya-hp.or.jp/event/%e6%9c%ac%e6%97%a5%e3%81%ae%e3%83%a9%e3%83%b3%e3%83%81-1339/
END:VEVENT
END:VCALENDAR