BEGIN:VCALENDAR
VERSION:2.0
PRODID:-//ビバ・フローラ - ECPv4.6//NONSGML v1.0//EN
CALSCALE:GREGORIAN
METHOD:PUBLISH
X-WR-CALNAME:ビバ・フローラ
X-ORIGINAL-URL:http://viva.setagaya-hp.or.jp
X-WR-CALDESC:Events for ビバ・フローラ
BEGIN:VEVENT
DTSTART;TZID=Asia/Tokyo:20230419T120000
DTEND;TZID=Asia/Tokyo:20230419T130000
DTSTAMP:20260421T124807
CREATED:20230412T021135Z
LAST-MODIFIED:20230412T021515Z
UID:9523-1681905600-1681909200@viva.setagaya-hp.or.jp
SUMMARY:本日のランチ
DESCRIPTION:ごはん\n豚しょうが焼き\n若竹煮\nアスパラサラダ\n里芋の味噌汁\nぶどうゼリー \n
URL:http://viva.setagaya-hp.or.jp/event/%e6%9c%ac%e6%97%a5%e3%81%ae%e3%83%a9%e3%83%b3%e3%83%81-1355/
END:VEVENT
END:VCALENDAR