BEGIN:VCALENDAR
VERSION:2.0
PRODID:-//ビバ・フローラ - ECPv4.6//NONSGML v1.0//EN
CALSCALE:GREGORIAN
METHOD:PUBLISH
X-WR-CALNAME:ビバ・フローラ
X-ORIGINAL-URL:http://viva.setagaya-hp.or.jp
X-WR-CALDESC:Events for ビバ・フローラ
BEGIN:VEVENT
DTSTART;TZID=Asia/Tokyo:20230525T120000
DTEND;TZID=Asia/Tokyo:20230525T130000
DTSTAMP:20260421T124830
CREATED:20230515T053530Z
LAST-MODIFIED:20230515T053530Z
UID:9606-1685016000-1685019600@viva.setagaya-hp.or.jp
SUMMARY:本日のランチ
DESCRIPTION:サンドイッチ（玉子・ポテサラ）\nポークチャップ\nほうれん草サラダ\nかぶのミルクスープ\nフルーツ缶 \n
URL:http://viva.setagaya-hp.or.jp/event/%e6%9c%ac%e6%97%a5%e3%81%ae%e3%83%a9%e3%83%b3%e3%83%81-1390/
END:VEVENT
END:VCALENDAR