BEGIN:VCALENDAR
VERSION:2.0
PRODID:-//ビバ・フローラ - ECPv4.6//NONSGML v1.0//EN
CALSCALE:GREGORIAN
METHOD:PUBLISH
X-WR-CALNAME:ビバ・フローラ
X-ORIGINAL-URL:http://viva.setagaya-hp.or.jp
X-WR-CALDESC:Events for ビバ・フローラ
BEGIN:VEVENT
DTSTART;TZID=Asia/Tokyo:20230611T120000
DTEND;TZID=Asia/Tokyo:20230611T130000
DTSTAMP:20260421T202217
CREATED:20230605T064146Z
LAST-MODIFIED:20230605T064146Z
UID:9646-1686484800-1686488400@viva.setagaya-hp.or.jp
SUMMARY:本日のランチ
DESCRIPTION:あんかけ焼きそば\n春巻き\nアスパラサラダ\nわかめスープ\nフルーツ缶 \n
URL:http://viva.setagaya-hp.or.jp/event/%e6%9c%ac%e6%97%a5%e3%81%ae%e3%83%a9%e3%83%b3%e3%83%81-1406/
END:VEVENT
END:VCALENDAR