BEGIN:VCALENDAR
VERSION:2.0
PRODID:-//ビバ・フローラ - ECPv4.6//NONSGML v1.0//EN
CALSCALE:GREGORIAN
METHOD:PUBLISH
X-WR-CALNAME:ビバ・フローラ
X-ORIGINAL-URL:http://viva.setagaya-hp.or.jp
X-WR-CALDESC:Events for ビバ・フローラ
BEGIN:VEVENT
DTSTART;TZID=Asia/Tokyo:20230612T120000
DTEND;TZID=Asia/Tokyo:20230612T130000
DTSTAMP:20260421T124828
CREATED:20230605T064232Z
LAST-MODIFIED:20230605T064232Z
UID:9648-1686571200-1686574800@viva.setagaya-hp.or.jp
SUMMARY:本日のランチ
DESCRIPTION:中華おこわ\n白身魚の野菜あん\n枝豆のふわふわ豆腐\n中華風和え物\n中華スープ\nマンゴープリン \n
URL:http://viva.setagaya-hp.or.jp/event/%e6%9c%ac%e6%97%a5%e3%81%ae%e3%83%a9%e3%83%b3%e3%83%81-1407/
END:VEVENT
END:VCALENDAR