BEGIN:VCALENDAR
VERSION:2.0
PRODID:-//ビバ・フローラ - ECPv4.6//NONSGML v1.0//EN
CALSCALE:GREGORIAN
METHOD:PUBLISH
X-WR-CALNAME:ビバ・フローラ
X-ORIGINAL-URL:http://viva.setagaya-hp.or.jp
X-WR-CALDESC:Events for ビバ・フローラ
BEGIN:VEVENT
DTSTART;TZID=Asia/Tokyo:20230621T120000
DTEND;TZID=Asia/Tokyo:20230621T130000
DTSTAMP:20260421T080433
CREATED:20230612T034132Z
LAST-MODIFIED:20230612T034132Z
UID:9668-1687348800-1687352400@viva.setagaya-hp.or.jp
SUMMARY:本日のランチ
DESCRIPTION:炊き込みごはん\n鮭の柚庵焼き\nかぼちゃの含め煮\nほうれん草三杯酢\n豆腐のすまし汁\nいちごババロア \n
URL:http://viva.setagaya-hp.or.jp/event/%e6%9c%ac%e6%97%a5%e3%81%ae%e3%83%a9%e3%83%b3%e3%83%81-1416/
END:VEVENT
END:VCALENDAR